{"text_format":"1","workbook":"xlsx","n_sheets":2,"sheets":["ArcheryScore","選手リスト"],"not_rendered":{"charts":0,"images":1,"macros":1,"external_links":0,"defined_names":3,"comments":0,"pivot_tables":0},"unopened":[],"bounds":{"document_bytes":16777216,"sheet_cells":100000,"rows_first":2000,"rows_last":500,"rows_between":2000,"halvings":0,"cell_chars":16384,"cell_head_chars":4096},"cells_cut":0,"cells_raw":0,"read":"whole","date_system":"1900"}

{"sheet":"ArcheryScore","index":0,"n_rows":33,"n_cols":18,"rows_kept":33,"cut":false,"hidden":false,"merged":[[0,10,0,11],[0,0,0,3],[0,7,0,8]]}
[{"$f":"IF(選手リスト!B1<>\"\",選手リスト!B1,\"\")","v":""},null,null,null,null,"ラウンド",{"$f":"選手リスト!J1","v":2},{"$f":"IF(選手リスト!C1<>\"\",選手リスト!C1,\"\")","v":""},null,null,{"$f":"TODAY()","v":"2022-01-20"}]
["第１R",{"$f":"選手リスト!E2","v":"50m"},null,null,null,null,null,null,null,null,"X + 10",{"$f":"IF($G$1=1,K7,IF($G$1=2,K7+K15,IF($G$1=3,K7+K15+K23,IF($G$1=4,K7+K15+K23+K31))))","v":0}]
[null,1,2,3,4,5,6,"小計","累計",null,"X",{"$f":"IF($G$1=1,K8,IF($G$1=2,K8+K16,IF($G$1=3,K8+K16+K24,IF($G$1=4,K8+K16+K24+K32))))","v":0},null,null,null,null,"X","12m"]
[1,null,null,null,null,null,null,{"$f":"SUM(IF(B4:G4=\"X\",10,IF(B4:G4=\"x\",10,IF(B4:G4=\"M\",0,IF(B4:G4=\"m\",0,B4:G4)))))","v":0},{"$f":"H4","v":0},null,"合計",{"$f":"IF($G$1=1,K9,IF($G$1=2,K9+K17,IF($G$1=3,K9+K17+K25,IF($G$1=4,K9+K17+K25+K33))))","v":0},null,null,null,null,10,"18mW"]
[2,null,null,null,null,null,null,{"$f":"SUM(IF(B5:G5=\"X\",10,IF(B5:G5=\"x\",10,IF(B5:G5=\"M\",0,IF(B5:G5=\"m\",0,B5:G5)))))","v":0},{"$f":"SUM($H$4:H5)","v":0},null,null,null,null,null,null,null,9,"30mW"]
[3,null,null,null,null,null,null,{"$f":"SUM(IF(B6:G6=\"X\",10,IF(B6:G6=\"x\",10,IF(B6:G6=\"M\",0,IF(B6:G6=\"m\",0,B6:G6)))))","v":0},{"$f":"SUM($H$4:H6)","v":0},null,null,null,null,null,null,null,8,"30-50m"]
[4,null,null,null,null,null,null,{"$f":"SUM(IF(B7:G7=\"X\",10,IF(B7:G7=\"x\",10,IF(B7:G7=\"M\",0,IF(B7:G7=\"m\",0,B7:G7)))))","v":0},{"$f":"SUM($H$4:H7)","v":0},"X + 10",{"$f":"SUM(IF(B4:G9=10,1,0))+K8","v":0},null,null,null,null,null,7,"50mW"]
[5,null,null,null,null,null,null,{"$f":"SUM(IF(B8:G8=\"X\",10,IF(B8:G8=\"x\",10,IF(B8:G8=\"M\",0,IF(B8:G8=\"m\",0,B8:G8)))))","v":0},{"$f":"SUM($H$4:H8)","v":0},"X",{"$f":"SUM(IF(B4:G9=\"X\",1,0))","v":0},null,null,null,null,null,6,"60mW"]
[6,null,null,null,null,null,null,{"$f":"SUM(IF(B9:G9=\"X\",10,IF(B9:G9=\"x\",10,IF(B9:G9=\"M\",0,IF(B9:G9=\"m\",0,B9:G9)))))","v":0},{"$f":"SUM($H$4:H9)","v":0},"合計",{"$f":"I9","v":0},null,null,null,null,null,5,"70mW"]
["第２R",{"$f":"選手リスト!F2","v":"30m"},null,null,null,null,null,null,null,null,null,null,null,null,null,null,4]
[null,1,2,3,4,5,6,"小計","累計",null,null,null,null,null,null,null,3]
[1,null,null,null,null,null,null,{"$f":"SUM(IF(B12:G12=\"X\",10,IF(B12:G12=\"x\",10,IF(B12:G12=\"M\",0,IF(B12:G12=\"m\",0,B12:G12)))))","v":0},{"$f":"H12","v":0},null,null,null,null,null,null,null,2]
[2,null,null,null,null,null,null,{"$f":"SUM(IF(B13:G13=\"X\",10,IF(B13:G13=\"x\",10,IF(B13:G13=\"M\",0,IF(B13:G13=\"m\",0,B13:G13)))))","v":0},{"$f":"SUM($H$12:H13)","v":0},null,null,null,null,null,null,null,1]
[3,null,null,null,null,null,null,{"$f":"SUM(IF(B14:G14=\"X\",10,IF(B14:G14=\"x\",10,IF(B14:G14=\"M\",0,IF(B14:G14=\"m\",0,B14:G14)))))","v":0},{"$f":"SUM($H$12:H14)","v":0},null,null,null,null,null,null,null,"M"]
[4,null,null,null,null,null,null,{"$f":"SUM(IF(B15:G15=\"X\",10,IF(B15:G15=\"x\",10,IF(B15:G15=\"M\",0,IF(B15:G15=\"m\",0,B15:G15)))))","v":0},{"$f":"SUM($H$12:H15)","v":0},"X + 10",{"$f":"SUM(IF(B12:G17=10,1,0))+K16","v":0}]
[5,null,null,null,null,null,null,{"$f":"SUM(IF(B16:G16=\"X\",10,IF(B16:G16=\"x\",10,IF(B16:G16=\"M\",0,IF(B16:G16=\"m\",0,B16:G16)))))","v":0},{"$f":"SUM($H$12:H16)","v":0},"X",{"$f":"SUM(IF(B12:G17=\"X\",1,0))","v":0}]
[6,null,null,null,null,null,null,{"$f":"SUM(IF(B17:G17=\"X\",10,IF(B17:G17=\"x\",10,IF(B17:G17=\"M\",0,IF(B17:G17=\"m\",0,B17:G17)))))","v":0},{"$f":"SUM($H$12:H17)","v":0},"合計",{"$f":"I17","v":0}]
["第３R",{"$f":"選手リスト!G2","v":0}]
[null,1,2,3,4,5,6,"小計","累計"]
[1,null,null,null,null,null,null,{"$f":"SUM(IF(B20:G20=\"X\",10,IF(B20:G20=\"x\",10,IF(B20:G20=\"M\",0,IF(B20:G20=\"m\",0,B20:G20)))))","v":0},{"$f":"H20","v":0}]
[2,null,null,null,null,null,null,{"$f":"SUM(IF(B21:G21=\"X\",10,IF(B21:G21=\"x\",10,IF(B21:G21=\"M\",0,IF(B21:G21=\"m\",0,B21:G21)))))","v":0},{"$f":"SUM($H$20:H21)","v":0}]
[3,null,null,null,null,null,null,{"$f":"SUM(IF(B22:G22=\"X\",10,IF(B22:G22=\"x\",10,IF(B22:G22=\"M\",0,IF(B22:G22=\"m\",0,B22:G22)))))","v":0},{"$f":"SUM($H$20:H22)","v":0}]
[4,null,null,null,null,null,null,{"$f":"SUM(IF(B23:G23=\"X\",10,IF(B23:G23=\"x\",10,IF(B23:G23=\"M\",0,IF(B23:G23=\"m\",0,B23:G23)))))","v":0},{"$f":"SUM($H$20:H23)","v":0},"X + 10",{"$f":"SUM(IF(B20:G25=10,1,0))+K24","v":0},null,null,""]
[5,null,null,null,null,null,null,{"$f":"SUM(IF(B24:G24=\"X\",10,IF(B24:G24=\"x\",10,IF(B24:G24=\"M\",0,IF(B24:G24=\"m\",0,B24:G24)))))","v":0},{"$f":"SUM($H$20:H24)","v":0},"X",{"$f":"SUM(IF(B20:G25=\"X\",1,0))","v":0}]
[6,null,null,null,null,null,null,{"$f":"SUM(IF(B25:G25=\"X\",10,IF(B25:G25=\"x\",10,IF(B25:G25=\"M\",0,IF(B25:G25=\"m\",0,B25:G25)))))","v":0},{"$f":"SUM($H$20:H25)","v":0},"合計",{"$f":"I25","v":0}]
["第４R",{"$f":"選手リスト!H2","v":0}]
[null,1,2,3,4,5,6,"小計","累計"]
[1,null,null,null,null,null,null,{"$f":"SUM(IF(B28:G28=\"X\",10,IF(B28:G28=\"x\",10,IF(B28:G28=\"M\",0,IF(B28:G28=\"m\",0,B28:G28)))))","v":0},{"$f":"H28","v":0}]
[2,null,null,null,null,null,null,{"$f":"SUM(IF(B29:G29=\"X\",10,IF(B29:G29=\"x\",10,IF(B29:G29=\"M\",0,IF(B29:G29=\"m\",0,B29:G29)))))","v":0},{"$f":"SUM($H$28:H29)","v":0}]
[3,null,null,null,null,null,null,{"$f":"SUM(IF(B30:G30=\"X\",10,IF(B30:G30=\"x\",10,IF(B30:G30=\"M\",0,IF(B30:G30=\"m\",0,B30:G30)))))","v":0},{"$f":"SUM($H$28:H30)","v":0}]
[4,null,null,null,null,null,null,{"$f":"SUM(IF(B31:G31=\"X\",10,IF(B31:G31=\"x\",10,IF(B31:G31=\"M\",0,IF(B31:G31=\"m\",0,B31:G31)))))","v":0},{"$f":"SUM($H$28:H31)","v":0},"X + 10",{"$f":"SUM(IF(B28:G33=10,1,0))+K32","v":0}]
[5,null,null,null,null,null,null,{"$f":"SUM(IF(B32:G32=\"X\",10,IF(B32:G32=\"x\",10,IF(B32:G32=\"M\",0,IF(B32:G32=\"m\",0,B32:G32)))))","v":0},{"$f":"SUM($H$28:H32)","v":0},"X",{"$f":"SUM(IF(B28:G33=\"X\",1,0))","v":0}]
[6,null,null,null,null,null,null,{"$f":"SUM(IF(B33:G33=\"X\",10,IF(B33:G33=\"x\",10,IF(B33:G33=\"M\",0,IF(B33:G33=\"m\",0,B33:G33)))))","v":0},{"$f":"SUM($H$28:H33)","v":0},"合計",{"$f":"I33","v":0}]

{"sheet":"選手リスト","index":1,"n_rows":111,"n_cols":30,"rows_kept":111,"cut":false,"hidden":false,"merged":[[0,1,0,2],[7,14,7,15],[0,10,0,11],[7,22,7,23]]}
["試合名",null,null,null,"第1R","第2R","第3R","第4R","ラウンド数",2,{"$f":"TODAY()","v":"2022-01-20"}]
["No.","立順","氏名","所属","50m","30m",null,null,"合計",10,"X","順位",null,null,null,null,null,null,null,null,null,null,null,null,null,null,null,null,null,"RANK(X10考慮)"]
[1,null,null,null,{"$f":"IFERROR(INDIRECT(C3&\"!K9\"),\"\")","v":""},{"$f":"IFERROR(INDIRECT(C3&\"!K17\"),\"\")","v":""},{"$f":"IFERROR(INDIRECT(C3&\"!K25\"),\"\")","v":""},{"$f":"IFERROR(INDIRECT(C3&\"!K33\"),\"\")","v":""},{"$f":"IFERROR(INDIRECT(C3&\"!L4\"),\"\")","v":""},{"$f":"IFERROR(INDIRECT(C3&\"!L2\"),\"\")","v":""},{"$f":"IFERROR(INDIRECT(C3&\"!L3\"),\"\")","v":""},{"$f":"IFERROR(RANK(AD3,$AD$2:$AD$101),\"\")","v":""},null,null,null,null,null,null,null,null,null,null,null,null,null,null,null,null,null,{"$f":"IF(C3<>\"\",I3+J3/100+K3/1000+1/A3/10000,\"\")","v":""}]
[2,null,null,null,{"$f":"IFERROR(INDIRECT(C4&\"!K9\"),\"\")","v":""},{"$f":"IFERROR(INDIRECT(C4&\"!K17\"),\"\")","v":""},{"$f":"IFERROR(INDIRECT(C4&\"!K25\"),\"\")","v":""},{"$f":"IFERROR(INDIRECT(C4&\"!K33\"),\"\")","v":""},"","","","",null,null,null,null,null,null,null,null,null,null,null,null,null,null,null,null,null,""]
[3,null,null,null,"","","","","","","","",null,null,null,null,null,null,null,null,null,null,null,null,null,null,null,null,null,""]
[4,null,null,null,"","","","","","","","",null,null,null,null,null,null,null,null,null,null,null,null,null,null,null,null,null,""]
[5,null,null,null,"","","","","","","","",null,null,null,null,null,null,null,null,null,null,null,null,null,null,null,null,null,""]
[6,null,null,null,"","","","","","","","",null,"試合名",{"$f":"IF(B1<>\"\",B1,\"\")","v":""},null,"選手数",{"$f":"COUNTA(C3:C102)","v":0},null,null,null,null,{"$f":"TODAY()","v":"2022-01-20"},null,null,null,null,null,null,""]
[7,null,null,null,"","","","","","","","",null,false,null,null,null,null,null,null,null,null,null,null,null,null,null,null,null,""]
[8,null,null,null,"","","","","","","","",null,null,null,null,null,null,null,null,null,null,null,null,null,null,null,null,null,""]
[9,null,null,null,"","","","","","","","",null,{"$f":"L2","v":"順位"},{"$f":"B2","v":"立順"},{"$f":"C2","v":"氏名"},{"$f":"D2","v":"所属"},{"$f":"IF(E2<>\"\",E2,\"\")","v":"50m"},{"$f":"IF(F2<>\"\",F2,\"\")","v":"30m"},{"$f":"IF(G2<>\"\",G2,\"\")","v":""},{"$f":"IF(H2<>\"\",H2,\"\")","v":""},{"$f":"I2","v":"合計"},{"$f":"J2","v":10},{"$f":"K2","v":"X"},"備考","同点チェック",null,null,null,""]
[10,null,null,null,"","","","","","","","",null,1,{"$f":"IFERROR(INDEX($B$3:$B$102,MATCH($N12,$L$3:$L$102,0)),\"\")","v":""},{"$f":"IFERROR(INDEX($C$3:$C$102,MATCH(N12,$L$3:$L$102,0)),\"\")","v":""},{"$f":"IFERROR(INDEX($D$3:$D$102,MATCH($N12,$L$3:$L$102,0)),\"\")","v":""},{"$f":"IFERROR(INDEX($E$3:$E$102,MATCH($N12,$L$3:$L$102,0)),\"\")","v":""},{"$f":"IFERROR(INDEX($F$3:$F$102,MATCH($N12,$L$3:$L$102,0)),\"\")","v":""},{"$f":"IFERROR(INDEX($G$3:$G$102,MATCH($N12,$L$3:$L$102,0)),\"\")","v":""},{"$f":"IFERROR(INDEX($H$3:$H$102,MATCH($N12,$L$3:$L$102,0)),\"\")","v":""},{"$f":"IFERROR(INDEX($I$3:$I$102,MATCH(N12,$L$3:$L$102,0)),\"\")","v":""},{"$f":"IFERROR(INDEX($J$3:$J$102,MATCH(N12,$L$3:$L$102,0)),\"\")","v":""},{"$f":"IFERROR(INDEX($K$3:$K$102,MATCH(N12,$L$3:$L$102,0)),\"\")","v":""},null,null,null,null,null,""]
[11,null,null,null,"","","","","","","","",null,2,{"$f":"IFERROR(INDEX($B$3:$B$102,MATCH($N13,$L$3:$L$102,0)),\"\")","v":""},{"$f":"IFERROR(INDEX($C$3:$C$102,MATCH(N13,$L$3:$L$102,0)),\"\")","v":""},{"$f":"IFERROR(INDEX($D$3:$D$102,MATCH($N13,$L$3:$L$102,0)),\"\")","v":""},{"$f":"IFERROR(INDEX($E$3:$E$102,MATCH($N13,$L$3:$L$102,0)),\"\")","v":""},{"$f":"IFERROR(INDEX($F$3:$F$102,MATCH($N13,$L$3:$L$102,0)),\"\")","v":""},{"$f":"IFERROR(INDEX($G$3:$G$102,MATCH($N13,$L$3:$L$102,0)),\"\")","v":""},{"$f":"IFERROR(INDEX($H$3:$H$102,MATCH($N13,$L$3:$L$102,0)),\"\")","v":""},{"$f":"IFERROR(INDEX($I$3:$I$102,MATCH(N13,$L$3:$L$102,0)),\"\")","v":""},{"$f":"IFERROR(INDEX($J$3:$J$102,MATCH(N13,$L$3:$L$102,0)),\"\")","v":""},{"$f":"IFERROR(INDEX($K$3:$K$102,MATCH(N13,$L$3:$L$102,0)),\"\")","v":""},null,null,null,null,null,""]
[12,null,null,null,"","","","","","","","",null,3,"","","","","","","","","","",null,null,null,null,null,""]
[13,null,null,null,"","","","","","","","",null,4,"","","","","","","","","","",null,null,null,null,null,""]
[14,null,null,null,"","","","","","","","",null,5,"","","","","","","","","","",null,null,null,null,null,""]
[15,null,null,null,"","","","","","","","",null,6,"","","","","","","","","","",null,null,null,null,null,""]
[16,null,null,null,"","","","","","","","",null,7,"","","","","","","","","","",null,null,null,null,null,""]
[17,null,null,null,"","","","","","","","",null,8,"","","","","","","","","","",null,null,null,null,null,""]
[18,null,null,null,"","","","","","","","",null,9,"","","","","","","","","","",null,null,null,null,null,""]
[19,null,null,null,"","","","","","","","",null,10,"","","","","","","","","","",null,null,null,null,null,""]
[20,null,null,null,"","","","","","","","",null,11,"","","","","","","","","","",null,null,null,null,null,""]
[21,null,null,null,"","","","","","","","",null,12,"","","","","","","","","","",null,null,null,null,null,""]
[22,null,null,null,"","","","","","","","",null,13,"","","","","","","","","","",null,null,null,null,null,""]
[23,null,null,null,"","","","","","","","",null,14,"","","","","","","","","","",null,null,null,null,null,""]
[24,null,null,null,"","","","","","","","",null,15,"","","","","","","","","","",null,null,null,null,null,""]
[25,null,null,null,"","","","","","","","",null,16,"","","","","","","","","","",null,null,null,null,null,""]
[26,null,null,null,"","","","","","","","",null,17,"","","","","","","","","","",null,null,null,null,null,""]
[27,null,null,null,"","","","","","","","",null,18,"","","","","","","","","","",null,null,null,null,null,""]
[28,null,null,null,"","","","","","","","",null,19,"","","","","","","","","","",null,null,null,null,null,""]
[29,null,null,null,"","","","","","","","",null,20,"","","","","","","","","","",null,null,null,null,null,""]
[30,null,null,null,"","","","","","","","",null,21,"","","","","","","","","","",null,null,null,null,null,""]
[31,null,null,null,"","","","","","","","",null,22,"","","","","","","","","","",null,null,null,null,null,""]
[32,null,null,null,"","","","","","","","",null,23,"","","","","","","","","","",null,null,null,null,null,""]
[33,null,null,null,"","","","",{"$f":"IFERROR(INDIRECT(C35&\"!L4\"),\"\")","v":""},{"$f":"IFERROR(INDIRECT(C35&\"!L2\"),\"\")","v":""},{"$f":"IFERROR(INDIRECT(C35&\"!L3\"),\"\")","v":""},{"$f":"IFERROR(RANK(AD35,$AD$2:$AD$101),\"\")","v":""},null,24,"","","","","","","","","","",null,null,null,null,null,{"$f":"IF(C35<>\"\",I35+J35/100+K35/1000+1/A35/10000,\"\")","v":""}]
[34,null,null,null,"","","","","","","","",null,25,"","","","","","","","","","",null,null,null,null,null,""]
[35,null,null,null,"","","","","","","","",null,26,"","","","","","","","","","",null,null,null,null,null,""]
[36,null,null,null,"","","","","","","","",null,27,"","","","","","","","","","",null,null,null,null,null,""]
[37,null,null,null,"","","","","","","","",null,28,"","","","","","","","","","",null,null,null,null,null,""]
[38,null,null,null,"","","","","","","","",null,29,"","","","","","","","","","",null,null,null,null,null,""]
[39,null,null,null,"","","","","","","","",null,30,"","","","","","","","","","",null,null,null,null,null,""]
[40,null,null,null,"","","","","","","","",null,31,"","","","","","","","","","",null,null,null,null,null,""]
[41,null,null,null,"","","","","","","","",null,32,"","","","","","","","","","",null,null,null,null,null,""]
[42,null,null,null,"","","","","","","","",null,33,"","","","","","","","","","",null,null,null,null,null,""]
[43,null,null,null,"","","","","","","","",null,34,"","","","","","","","","","",null,null,null,null,null,""]
[44,null,null,null,"","","","","","","","",null,35,"","","","","","","","","","",null,null,null,null,null,""]
[45,null,null,null,"","","","","","","","",null,36,"","","","","","","","","","",null,null,null,null,null,""]
[46,null,null,null,"","","","","","","","",null,37,"","","","","","","","","","",null,null,null,null,null,""]
[47,null,null,null,"","","","","","","","",null,38,"","","","","","","","","","",null,null,null,null,null,""]
[48,null,null,null,"","","","","","","","",null,39,"","","","","","","","","","",null,null,null,null,null,""]
[49,null,null,null,"","","","","","","","",null,40,"","","","","","","","","","",null,null,null,null,null,""]
[50,null,null,null,"","","","","","","","",null,41,"","","","","","","","","","",null,null,null,null,null,""]
[51,null,null,null,"","","","","","","","",null,42,"","","","","","","","","","",null,null,null,null,null,""]
[52,null,null,null,"","","","","","","","",null,43,"","","","","","","","","","",null,null,null,null,null,""]
[53,null,null,null,"","","","","","","","",null,44,"","","","","","","","","","",null,null,null,null,null,""]
[54,null,null,null,"","","","","","","","",null,45,"","","","","","","","","","",null,null,null,null,null,""]
[55,null,null,null,"","","","","","","","",null,46,"","","","","","","","","","",null,null,null,null,null,""]
[56,null,null,null,"","","","","","","","",null,47,"","","","","","","","","","",null,null,null,null,null,""]
[57,null,null,null,"","","","","","","","",null,48,"","","","","","","","","","",null,null,null,null,null,""]
[58,null,null,null,"","","","","","","","",null,49,"","","","","","","","","","",null,null,null,null,null,""]
[59,null,null,null,"","","","","","","","",null,50,"","","","","","","","","","",null,null,null,null,null,""]
[60,null,null,null,"","","","","","","","",null,51,"",{"$f":"IFERROR(INDEX($C$3:$C$102,MATCH(N62,$L$3:$L$102,0)),\"\")","v":""},"","","","","",{"$f":"IFERROR(INDEX($I$3:$I$102,MATCH(N62,$L$3:$L$102,0)),\"\")","v":""},{"$f":"IFERROR(INDEX($J$3:$J$102,MATCH(N62,$L$3:$L$102,0)),\"\")","v":""},{"$f":"IFERROR(INDEX($K$3:$K$102,MATCH(N62,$L$3:$L$102,0)),\"\")","v":""},null,null,null,null,null,""]
[61,null,null,null,"","","","","","","","",null,52,"","","","","","","","","","",null,null,null,null,null,""]
[62,null,null,null,"","","","","","","","",null,53,"","","","","","","","","","",null,null,null,null,null,""]
[63,null,null,null,"","","","","","","","",null,54,"","","","","","","","","","",null,null,null,null,null,""]
[64,null,null,null,"","","","","","","","",null,55,"","","","","","","","","","",null,null,null,null,null,""]
[65,null,null,null,"","","","",{"$f":"IFERROR(INDIRECT(C67&\"!L4\"),\"\")","v":""},{"$f":"IFERROR(INDIRECT(C67&\"!L2\"),\"\")","v":""},{"$f":"IFERROR(INDIRECT(C67&\"!L3\"),\"\")","v":""},{"$f":"IFERROR(RANK(AD67,$AD$2:$AD$101),\"\")","v":""},null,56,"","","","","","","","","","",null,null,null,null,null,""]
[66,null,null,null,{"$f":"IFERROR(INDIRECT(C68&\"!K9\"),\"\")","v":""},{"$f":"IFERROR(INDIRECT(C68&\"!K17\"),\"\")","v":""},{"$f":"IFERROR(INDIRECT(C68&\"!K25\"),\"\")","v":""},{"$f":"IFERROR(INDIRECT(C68&\"!K33\"),\"\")","v":""},"","","","",null,57,"","","","","","","","","","",null,null,null,null,null,{"$f":"IF(C68<>\"\",I68+J68/100+K68/1000+1/A68/10000,\"\")","v":""}]
[67,null,null,null,"","","","","","","","",null,58,"","","","","","","","","","",null,null,null,null,null,""]
[68,null,null,null,"","","","","","","","",null,59,"","","","","","","","","","",null,null,null,null,null,""]
[69,null,null,null,"","","","","","","","",null,60,"","","","","","","","","","",null,null,null,null,null,""]
[70,null,null,null,"","","","","","","","",null,61,"","","","","","","","","","",null,null,null,null,null,""]
[71,null,null,null,"","","","","","","","",null,62,"","","","","","","","","","",null,null,null,null,null,""]
[72,null,null,null,"","","","","","","","",null,63,"","","","","","","","","","",null,null,null,null,null,""]
[73,null,null,null,"","","","","","","","",null,64,"","","","","","","","","","",null,null,null,null,null,""]
[74,null,null,null,"","","","","","","","",null,65,"","","","","","","","","","",null,null,null,null,null,""]
[75,null,null,null,"","","","","","","","",null,66,"","","","","","","","","","",null,null,null,null,null,""]
[76,null,null,null,"","","","","","","","",null,67,{"$f":"IFERROR(INDEX($B$3:$B$102,MATCH($N78,$L$3:$L$102,0)),\"\")","v":""},{"$f":"IFERROR(INDEX($C$3:$C$102,MATCH(N78,$L$3:$L$102,0)),\"\")","v":""},{"$f":"IFERROR(INDEX($D$3:$D$102,MATCH($N78,$L$3:$L$102,0)),\"\")","v":""},{"$f":"IFERROR(INDEX($E$3:$E$102,MATCH($N78,$L$3:$L$102,0)),\"\")","v":""},{"$f":"IFERROR(INDEX($F$3:$F$102,MATCH($N78,$L$3:$L$102,0)),\"\")","v":""},{"$f":"IFERROR(INDEX($G$3:$G$102,MATCH($N78,$L$3:$L$102,0)),\"\")","v":""},{"$f":"IFERROR(INDEX($H$3:$H$102,MATCH($N78,$L$3:$L$102,0)),\"\")","v":""},{"$f":"IFERROR(INDEX($I$3:$I$102,MATCH(N78,$L$3:$L$102,0)),\"\")","v":""},{"$f":"IFERROR(INDEX($J$3:$J$102,MATCH(N78,$L$3:$L$102,0)),\"\")","v":""},{"$f":"IFERROR(INDEX($K$3:$K$102,MATCH(N78,$L$3:$L$102,0)),\"\")","v":""},null,null,null,null,null,""]
[77,null,null,null,"","","","","","","","",null,68,"","","","","","","","","","",null,null,null,null,null,""]
[78,null,null,null,"","","","","","","","",null,69,"","","","","","","","","","",null,null,null,null,null,""]
[79,null,null,null,"","","","","","","","",null,70,"","","","","","","","","","",null,null,null,null,null,""]
[80,null,null,null,"","","","","","","","",null,71,"","","","","","","","","","",null,null,null,null,null,""]
[81,null,null,null,"","","","","","","","",null,72,"","","","","","","","","","",null,null,null,null,null,""]
[82,null,null,null,"","","","","","","","",null,73,"","","","","","","","","","",null,null,null,null,null,""]
[83,null,null,null,"","","","","","","","",null,74,"","","","","","","","","","",null,null,null,null,null,""]
[84,null,null,null,"","","","","","","","",null,75,"","","","","","","","","","",null,null,null,null,null,""]
[85,null,null,null,"","","","","","","","",null,76,"","","","","","","","","","",null,null,null,null,null,""]
[86,null,null,null,"","","","","","","","",null,77,"","","","","","","","","","",null,null,null,null,null,""]
[87,null,null,null,"","","","","","","","",null,78,"","","","","","","","","","",null,null,null,null,null,""]
[88,null,null,null,"","","","","","","","",null,79,"","","","","","","","","","",null,null,null,null,null,""]
[89,null,null,null,"","","","","","","","",null,80,"","","","","","","","","","",null,null,null,null,null,""]
[90,null,null,null,"","","","","","","","",null,81,"","","","","","","","","","",null,null,null,null,null,""]
[91,null,null,null,"","","","","","","","",null,82,"","","","","","","","","","",null,null,null,null,null,""]
[92,null,null,null,"","","","","","","","",null,83,"","","","","","","","","","",null,null,null,null,null,""]
[93,null,null,null,"","","","","","","","",null,84,"","","","","","","","","","",null,null,null,null,null,""]
[94,null,null,null,"","","","","","","","",null,85,"","","","","","","","","","",null,null,null,null,null,""]
[95,null,null,null,"","","","","","","","",null,86,"","","","","","","","","","",null,null,null,null,null,""]
[96,null,null,null,"","","","","","","","",null,87,"","","","","","","","","","",null,null,null,null,null,""]
[97,null,null,null,"","","","",{"$f":"IFERROR(INDIRECT(C99&\"!L4\"),\"\")","v":""},"","","",null,88,"","","","","","","","","","",null,null,null,null,null,""]
[98,null,null,null,"","","","","","","","",null,89,"","","","","","","","","","",null,null,null,null,null,""]
[99,null,null,null,"","","","","","","","",null,90,"","","","","","","","","","",null,null,null,null,null,""]
[100,null,null,null,"","","","","","","","",null,91,"","","","","","","","","","",null,null,null,null,null,""]
[null,null,null,null,null,null,null,null,null,null,null,null,null,92,"","","","","","","","","",""]
[null,null,null,null,null,null,null,null,null,null,null,null,null,93,"","","","","","","","","",""]
[null,null,null,null,null,null,null,null,null,null,null,null,null,94,"","","","","","","","","",""]
[null,null,null,null,null,null,null,null,null,null,null,null,null,95,"","","","","","","","","",""]
[null,null,null,null,null,null,null,null,null,null,null,null,null,96,"","","","","","","","","",""]
[null,null,null,null,null,null,null,null,null,null,null,null,null,97,"","","","","","","","","",""]
[null,null,null,null,null,null,null,null,null,null,null,null,null,98,"","","","","","","","","",""]
[null,null,null,null,null,null,null,null,null,null,null,null,null,99,"","","","","","","","","",""]
[null,null,null,null,null,null,null,null,null,null,null,null,null,100,"","","","","","","","","",""]